BEGIN:VCALENDAR
VERSION:2.0
PRODID:-//Kasinde - ECPv5.16.1.1//NONSGML v1.0//EN
CALSCALE:GREGORIAN
METHOD:PUBLISH
X-WR-CALNAME:Kasinde
X-ORIGINAL-URL:https://kasinde.com
X-WR-CALDESC:Eventos para Kasinde
REFRESH-INTERVAL;VALUE=DURATION:PT1H
X-Robots-Tag:noindex
X-PUBLISHED-TTL:PT1H
BEGIN:VTIMEZONE
TZID:Europe/Helsinki
BEGIN:DAYLIGHT
TZOFFSETFROM:+0200
TZOFFSETTO:+0300
TZNAME:EEST
DTSTART:20230326T010000
END:DAYLIGHT
BEGIN:STANDARD
TZOFFSETFROM:+0300
TZOFFSETTO:+0200
TZNAME:EET
DTSTART:20231029T010000
END:STANDARD
END:VTIMEZONE
BEGIN:VEVENT
DTSTART;TZID=Europe/Helsinki:20230925T080000
DTEND;TZID=Europe/Helsinki:20231001T170000
DTSTAMP:20260420T150816
CREATED:20230721T071142Z
LAST-MODIFIED:20230721T071142Z
UID:6839-1695628800-1696179600@kasinde.com
SUMMARY:Safari compartido Kenia - del 25 de septiembre al 1 de octubre
DESCRIPTION:Plazas disponibles: 2 \nFecha: del 25 de septiembre al 1 de octubre \nItinerario: Naivasha – Nakuru – Iltalala – Masai Mara \nModo: Aventura \nVehículo: Jeep 4×4 + guia de habla hispana \nPrecio: Desde 1465 euros por persona \n*NOTA: precios planteados para 2 personas en habitación doble. La habitación individual lleva suplemento. \n  \nPara más información ponte en contacto con nosotros: \n  \n\n  \n\n\n\n\n\n\n\n\n\n\n\n\n\n\n\n\n Nombre *\n      \n Email *\n      \n Teléfono*\n      \n Asunto\n      \n Tu consulta\n      \n* He leído y acepto la política de privacidad de datos \n \nPor favor\, deja este campo vacío. \n \n \nΔ
URL:https://kasinde.com/calendario/safari-compartido-kenia-del-25-de-septiembre-al-1-de-octubre/
CATEGORIES:Amboseli,Kenia,Maasai Mara,Naivasha,Nakuru
ATTACH;FMTTYPE=image/jpeg:https://kasinde.com/wp-content/uploads/2022/05/calendario-1.jpg
END:VEVENT
BEGIN:VEVENT
DTSTART;TZID=Europe/Helsinki:20230829T080000
DTEND;TZID=Europe/Helsinki:20230904T170000
DTSTAMP:20260420T150816
CREATED:20230222T131316Z
LAST-MODIFIED:20230725T080021Z
UID:6713-1693296000-1693846800@kasinde.com
SUMMARY:Safari compartido Kenia - del 29 de agosto al 4 septiembre 2023
DESCRIPTION:Plazas disponibles: 4. \nFecha: 29 agosto al 4 septiembre 2023 \nItinerario: Samburu – Nakuru – Maasai Mara \nModo: Aventura Superior / Confort \nVehículo: Jeep 4×4 + guía habla hispana \nPrecio: Desde 2030 eur por persona \n*NOTA: precios planteados para 2 personas en habitación doble. La habitación individual lleva suplemento. \n  \nPara más información ponte en contacto con nosotros: \n  \n\n  \n\n\n\n\n\n\n\n\n\n\n\n\n\n\n\n\n Nombre *\n      \n Email *\n      \n Teléfono*\n      \n Asunto\n      \n Tu consulta\n      \n* He leído y acepto la política de privacidad de datos \n \nPor favor\, deja este campo vacío. \n \n \nΔ
URL:https://kasinde.com/calendario/safari-compartido-kenia-29-agosto/
CATEGORIES:Kenia,Maasai Mara,Nakuru,Samburu
ATTACH;FMTTYPE=image/jpeg:https://kasinde.com/wp-content/uploads/2023/02/Imagen-de-WhatsApp-2023-01-27-a-las-17.13.35.jpg
END:VEVENT
BEGIN:VEVENT
DTSTART;TZID=Europe/Helsinki:20230624T080000
DTEND;TZID=Europe/Helsinki:20230702T170000
DTSTAMP:20260420T150816
CREATED:20230222T135603Z
LAST-MODIFIED:20230222T135603Z
UID:6718-1687593600-1688317200@kasinde.com
SUMMARY:Safari compartido Kenia - del 26 junio al 2 julio
DESCRIPTION:Plazas disponibles: 4. \nFecha: 26 de junio al 2 julio \nItinerario: Nakuru – Iltalala – Maasai Mara \nModo: Aventura Superior / Confort \nVehículo: Jeep 4×4 + guía habla hispana \n*NOTA: precios planteados para 2 personas en habitación doble. La habitación individual lleva suplemento. \n  \nPara más información ponte en contacto con nosotros: \n  \n\n  \n\n\n\n\n\n\n\n\n\n\n\n\n\n\n\n\n Nombre *\n      \n Email *\n      \n Teléfono*\n      \n Asunto\n      \n Tu consulta\n      \n* He leído y acepto la política de privacidad de datos \n \nPor favor\, deja este campo vacío. \n \n \nΔ
URL:https://kasinde.com/calendario/safari-compartido-kenia-del-26-junio-al-2-julio/
CATEGORIES:Kenia,Maasai Mara,Nakuru
ATTACH;FMTTYPE=image/jpeg:https://kasinde.com/wp-content/uploads/2021/01/DSC00773-scaled.jpg
END:VEVENT
BEGIN:VEVENT
DTSTART;TZID=Europe/Helsinki:20230601T080000
DTEND;TZID=Europe/Helsinki:20230607T170000
DTSTAMP:20260420T150816
CREATED:20230127T120931Z
LAST-MODIFIED:20230510T105947Z
UID:6685-1685606400-1686157200@kasinde.com
SUMMARY:Safari compartido Kenia - del 1 al 7 de junio 2023
DESCRIPTION:Plazas disponibles: 3 \nFecha: 1 al 7 de junio 2023 \nItinerario: Amboseli – Naivasha – Masai Mara \nModo: Aventura \nVehículo: Jeep 4×4 + guía habla hispana \n  \nPara más información ponte en contacto con nosotros: \n  \n\n  \n\n\n\n\n\n\n\n\n\n\n\n\n\n\n\n\n Nombre *\n      \n Email *\n      \n Teléfono*\n      \n Asunto\n      \n Tu consulta\n      \n* He leído y acepto la política de privacidad de datos \n \nPor favor\, deja este campo vacío. \n \n \nΔ
URL:https://kasinde.com/calendario/safari-compartido-kenia-junio-2023/
CATEGORIES:Amboseli,Kenia,Maasai Mara,Naivasha
ATTACH;FMTTYPE=image/jpeg:https://kasinde.com/wp-content/uploads/2021/02/WhatsApp-Image-2021-02-19-at-18.21.00.jpeg
END:VEVENT
BEGIN:VEVENT
DTSTART;TZID=Europe/Helsinki:20230307T080000
DTEND;TZID=Europe/Helsinki:20230313T170000
DTSTAMP:20260420T150816
CREATED:20230104T163714Z
LAST-MODIFIED:20230130T094531Z
UID:6648-1678176000-1678726800@kasinde.com
SUMMARY:Safari compartido Kenia - 7 al 13 de marzo 2023
DESCRIPTION:Plazas disponibles: 4. \nFecha: 7 al 13 de marzo de 2023. \nItinerario: Amboseli – Naivasha – Iltalala – Masai Mara \nModo: Aventura \nVehículo: Safari van + guía habla hispana \n*NOTA: precios planteados para 2 personas en habitación doble. La habitación individual lleva suplemento. \n  \nPara más información ponte en contacto con nosotros: \n  \n\n  \n\n\n\n\n\n\n\n\n\n\n\n\n\n\n\n\n Nombre *\n      \n Email *\n      \n Teléfono*\n      \n Asunto\n      \n Tu consulta\n      \n* He leído y acepto la política de privacidad de datos \n \nPor favor\, deja este campo vacío. \n \n \nΔ
URL:https://kasinde.com/calendario/safari-compartido-kenia-marzo-2023/
CATEGORIES:Amboseli,Kenia,Maasai Mara,Naivasha
ATTACH;FMTTYPE=image/jpeg:https://kasinde.com/wp-content/uploads/2023/01/WhatsApp-Image-2021-02-11-at-11.51.18-2.jpeg
ORGANIZER;CN="KASINDE":MAILTO:info@kasinde.com
END:VEVENT
BEGIN:VEVENT
DTSTART;TZID=Europe/Helsinki:20230213T080000
DTEND;TZID=Europe/Helsinki:20230224T170000
DTSTAMP:20260420T150816
CREATED:20230127T115448Z
LAST-MODIFIED:20230130T094556Z
UID:6683-1676275200-1677258000@kasinde.com
SUMMARY:Safari compartido Kenia - 13 al 24 de febrero 2023
DESCRIPTION:Plazas disponibles: 4. \nFecha: 13 al 24 de febrero 2023 \nItinerario: Amboseli – Monte Kenia – Naivasha – Nakuru – Iltalala – Masai Mara \nModo: Aventura \nVehículo: Safari Van y Jeep 4×4 + guía habla hispana \n  \nPara más información ponte en contacto con nosotros: \n  \n\n  \n\n\n\n\n\n\n\n\n\n\n\n\n\n\n\n\n Nombre *\n      \n Email *\n      \n Teléfono*\n      \n Asunto\n      \n Tu consulta\n      \n* He leído y acepto la política de privacidad de datos \n \nPor favor\, deja este campo vacío. \n \n \nΔ
URL:https://kasinde.com/calendario/safari-compartido-kenia-febrero-2023/
CATEGORIES:Amboseli,Kenia,Maasai Mara,Naivasha
ATTACH;FMTTYPE=image/jpeg:https://kasinde.com/wp-content/uploads/2021/10/WhatsApp-Image-2021-10-22-at-12.25.43.jpeg
END:VEVENT
BEGIN:VEVENT
DTSTART;TZID=Europe/Helsinki:20230101T080000
DTEND;TZID=Europe/Helsinki:20230106T200000
DTSTAMP:20260420T150816
CREATED:20221108T125759Z
LAST-MODIFIED:20221108T133039Z
UID:6612-1672560000-1673035200@kasinde.com
SUMMARY:Safari abierto Tanzania - 1 al 6 de Enero 2023
DESCRIPTION:Plazas disponibles: 4. \nFecha: 1 al 6 de enero de 2023. \nItinerario: Arusha – Tarangire – Serengeti – Ngorongoro \nModo: Mix Camping // Aventura \nVehículo: Jeep 4×4 + guía habla hispana \nPrecio: 1.400$ – 1.500$ por persona (Según las personas que finalmente se sumen al viaje) \n*NOTA: precios planteados para 2 personas en habitación doble. La habitación individual lleva suplemento. \n  \nPara más información ponte en contacto con nosotros: \n  \n\n  \n\n\n\n\n\n\n\n\n\n\n\n\n\n\n\n\n Nombre *\n      \n Email *\n      \n Teléfono*\n      \n Asunto\n      \n Tu consulta\n      \n* He leído y acepto la política de privacidad de datos \n \nPor favor\, deja este campo vacío. \n \n \nΔ
URL:https://kasinde.com/calendario/viaje-abierto-tanzania-enero-2023/
CATEGORIES:Tanzania
ATTACH;FMTTYPE=image/jpeg:https://kasinde.com/wp-content/uploads/2022/11/WhatsApp-Image-2022-11-08-at-14.16.36.jpeg
ORGANIZER;CN="KASINDE":MAILTO:info@kasinde.com
END:VEVENT
END:VCALENDAR